BEGIN:VCALENDAR
PRODID:-//Drupal//iCal file//EN
VERSION:2.0
METHOD:PUBLISH
BEGIN:VEVENT
UID:2ef248c04979d6b3a7b283ec3dc32cca-3208-18f2c7d3456530c7e9387729e0a9f721
DTSTART:2017-01-22T00:00:00
DTEND:2017-01-26T00:00:00
LOCATION: Vemdalen
SUMMARY:Student SkiWeek
URL:http://www.borstmasteriet.se/node/3208
CREATED:20160919T130242Z
LAST-MODIFIED:20160919T130243Z
END:VEVENT
END:VCALENDAR