BEGIN:VCALENDAR
PRODID:-//Drupal//iCal file//EN
VERSION:2.0
METHOD:PUBLISH
BEGIN:VEVENT
UID:908c9a564a86426585b29f5335b619bc-3001-18f2c7d3456530c7e9387729e0a9f721
DTSTART:2014-11-08T20:00:00
DTEND:2014-11-08T20:00:00
LOCATION: Kårhuset
SUMMARY:Beerpong
URL:http://www.borstmasteriet.se/node/3001
CREATED:20141013T113917Z
LAST-MODIFIED:20141013T132015Z
END:VEVENT
END:VCALENDAR